BEGIN:VCALENDAR
VERSION:2.0
PRODID:itakvim.com
METHOD:PUBLISH
UID:ddd744b9-cfcf-4e74-4eb0-08de9f183112
X-WR-CALNAME:İYÖS İdari Yargı Ön Sınavı 2026-İYÖS Başvuru Başlangıç
X-ITAKVIM-LANGUAGE:tr
X-ITAKVIM-REGION:TR
CALSCALE:GREGORIAN
BEGIN:VEVENT
UID:ddd744b9-cfcf-4e74-4eb0-08de9f183112
DTSTAMP:20260420T200538Z
DTSTART:20260810T210000Z
DTEND:20260810T210000Z
TRANSP:TRANSPARENT
STATUS:CONFIRMED
SUMMARY:İYÖS İdari Yargı Ön Sınavı 2026-İYÖS Başvuru Başlangıç
END:VEVENT
END:VCALENDAR
