BEGIN:VCALENDAR
VERSION:2.0
PRODID:itakvim.com
METHOD:PUBLISH
UID:de3963a2-8a5a-420e-51ca-08de9f183112
X-WR-CALNAME:Yazöğretimi Sınav Programı İlanı
X-ITAKVIM-LANGUAGE:tr
X-ITAKVIM-REGION:TR
CALSCALE:GREGORIAN
BEGIN:VEVENT
UID:de3963a2-8a5a-420e-51ca-08de9f183112
DTSTAMP:20260420T200724Z
DTSTART:20260721T210000Z
DTEND:20260721T210000Z
TRANSP:TRANSPARENT
STATUS:CONFIRMED
SUMMARY:Yazöğretimi Sınav Programı İlanı
END:VEVENT
END:VCALENDAR
