BEGIN:VCALENDAR
VERSION:2.0
PRODID:itakvim.com
METHOD:PUBLISH
UID:df24391f-f16b-40eb-5342-08de9f183112
X-WR-CALNAME:Mast 4. İzmir Boatshow Fuarı
X-ITAKVIM-LANGUAGE:tr
X-ITAKVIM-REGION:TR
CALSCALE:GREGORIAN
BEGIN:VEVENT
UID:df24391f-f16b-40eb-5342-08de9f183112
DTSTAMP:20260420T200816Z
DTSTART:20260429T060000Z
DTEND:20260503T150000Z
TRANSP:TRANSPARENT
STATUS:CONFIRMED
SUMMARY:Mast 4. İzmir Boatshow Fuarı
DESCRIPTION:1) İzfaş İzmir Fuarcılık Hizmetleri Kültür Ve Sanat İşleri Ticaret Anonim Şirketi 2) Ed Fuarcılık Ve Organizasyon Ltd. Şti. tarafından düzenlenen yelken ve motorlu deniz araçları, ekipmanları konulu fuarda görüşmek üzere: 

Web:www.izfas.com.tr
E-Posta: muhasebe@izmirfair.com.tr
LOCATION:Fuarizmir - Yeni Fuar Alanı
END:VEVENT
END:VCALENDAR
