BEGIN:VCALENDAR
VERSION:2.0
PRODID:itakvim.com
METHOD:PUBLISH
UID:df3826a8-0839-4308-5345-08de9f183112
X-WR-CALNAME:Sigorta İzmir – 1. Sigorta Paydaşları İş Birliği Fuar Ve Zirvesi
X-ITAKVIM-LANGUAGE:tr
X-ITAKVIM-REGION:TR
CALSCALE:GREGORIAN
BEGIN:VEVENT
UID:df3826a8-0839-4308-5345-08de9f183112
DTSTAMP:20260420T200816Z
DTSTART:20260611T060000Z
DTEND:20260613T150000Z
TRANSP:TRANSPARENT
STATUS:CONFIRMED
SUMMARY:Sigorta İzmir – 1. Sigorta Paydaşları İş Birliği Fuar Ve Zirvesi
DESCRIPTION:İzfaş İzmir Fuarcılık Hizmetleri Kültür Ve Sanat İşleri Ticaret Anonim Şirketi tarafından düzenlenen sigortacılık hizmetleri konulu fuarda görüşmek üzere: 

Web:www.izfas.com.tr
E-Posta: muhasebe@izmirfair.com.tr
LOCATION:Fuarizmir - Yeni Fuar Alanı
END:VEVENT
END:VCALENDAR
