BEGIN:VCALENDAR
VERSION:2.0
PRODID:itakvim.com
METHOD:PUBLISH
UID:e0b54a6a-b269-43c6-530b-08de9f183112
X-WR-CALNAME:Electricity Eurasia - Elektrik Ve Elektrik Ekipmanları Fuarı
X-ITAKVIM-LANGUAGE:tr
X-ITAKVIM-REGION:TR
CALSCALE:GREGORIAN
BEGIN:VEVENT
UID:e0b54a6a-b269-43c6-530b-08de9f183112
DTSTAMP:20260420T200816Z
DTSTART:20260916T060000Z
DTEND:20260918T150000Z
TRANSP:TRANSPARENT
STATUS:CONFIRMED
SUMMARY:Electricity Eurasia - Elektrik Ve Elektrik Ekipmanları Fuarı
DESCRIPTION:Sektörel Fuarcılık A.Ş. tarafından düzenlenen elektrik üretimi, İletimi ve dağıtım sistemlari, elektrik, elektronik, aydınlatma, kablo, otomasyon, elektrik ekipmanları konulu fuarda görüşmek üzere: 

Web:www.electricityeurasia.com
E-Posta: info@sektorelfuarcilik.com
LOCATION:Dr. Mimar Kadir Topbaş Gösteri Ve Sanat Merkezi
END:VEVENT
END:VCALENDAR
