BEGIN:VCALENDAR
VERSION:2.0
PRODID:itakvim.com
METHOD:PUBLISH
UID:e0b94cc2-be9a-42e6-d60e-08de9fecec0c
X-WR-CALNAME:e-YDS Elektronik Yabancı Dil Sınavı (e-YDS 2026/10 İngilizce) *** Başvuru Bitiş
X-ITAKVIM-LANGUAGE:tr
X-ITAKVIM-REGION:TR
CALSCALE:GREGORIAN
BEGIN:VEVENT
UID:e0b94cc2-be9a-42e6-d60e-08de9fecec0c
DTSTAMP:20260421T212824Z
DTSTART:20260916T210000Z
DTEND:20260916T210000Z
TRANSP:TRANSPARENT
STATUS:CONFIRMED
SUMMARY:e-YDS Elektronik Yabancı Dil Sınavı (e-YDS 2026/10 İngilizce) *** Başvuru Bitiş
END:VEVENT
END:VCALENDAR
