BEGIN:VCALENDAR
VERSION:2.0
PRODID:itakvim.com
METHOD:PUBLISH
UID:e1113d2f-0b2e-485c-4f2c-08de9f183112
X-WR-CALNAME:STS Tıp Tıp Doktorluğu Alanında Yurt Dışı Yükseköğretim Diploma Denkliği İçin Seviye Tespit Sınavı 2026-STS Tıp Doktorluğu 2. Dönem Başvuru Başlangıç
X-ITAKVIM-LANGUAGE:tr
X-ITAKVIM-REGION:TR
CALSCALE:GREGORIAN
BEGIN:VEVENT
UID:e1113d2f-0b2e-485c-4f2c-08de9f183112
DTSTAMP:20260420T200538Z
DTSTART:20260707T210000Z
DTEND:20260707T210000Z
TRANSP:TRANSPARENT
STATUS:CONFIRMED
SUMMARY:STS Tıp Tıp Doktorluğu Alanında Yurt Dışı Yükseköğretim Diploma Denkliği İçin Seviye Tespit Sınavı 2026-STS Tıp Doktorluğu 2. Dönem Başvuru Başlangıç
END:VEVENT
END:VCALENDAR
