BEGIN:VCALENDAR
VERSION:2.0
PRODID:itakvim.com
METHOD:PUBLISH
UID:e2deb5b3-6fc8-4965-725a-08dea0b24f2e
X-WR-CALNAME:Mart 2026 Dönemi Gelir ve Kurumlar Vergisi Tevkifatlarının Beyan ve Ödemesi Son Gün
X-ITAKVIM-LANGUAGE:tr
X-ITAKVIM-REGION:TR
CALSCALE:GREGORIAN
BEGIN:VEVENT
UID:e2deb5b3-6fc8-4965-725a-08dea0b24f2e
DTSTAMP:20260422T210149Z
DTSTART:20260427T140000Z
DTEND:20260427T140000Z
TRANSP:TRANSPARENT
STATUS:CONFIRMED
SUMMARY:Mart 2026 Dönemi Gelir ve Kurumlar Vergisi Tevkifatlarının Beyan ve Ödemesi Son Gün
DESCRIPTION:Mart 2026 Dönemine Ait GVK 94. Madde ile KVK 15. ve 30. Maddelerine Göre Yapılan Tevkifatların Muhtasar ve Prim Hizmet Beyannamesi ile Beyanı ve Ödemesi
END:VEVENT
END:VCALENDAR
