BEGIN:VCALENDAR
VERSION:2.0
PRODID:itakvim.com
METHOD:PUBLISH
UID:e31814bf-fafd-43f5-4ef4-08de9f183112
X-WR-CALNAME:KPSS Kamu Personel Seçme Sınavı 2026-KPSS Lisans (Alan Bilgisi) 2. gün Geç Başvuru Başlangıç
X-ITAKVIM-LANGUAGE:tr
X-ITAKVIM-REGION:TR
CALSCALE:GREGORIAN
BEGIN:VEVENT
UID:e31814bf-fafd-43f5-4ef4-08de9f183112
DTSTAMP:20260420T200538Z
DTSTART:20260721T210000Z
DTEND:20260721T210000Z
TRANSP:TRANSPARENT
STATUS:CONFIRMED
SUMMARY:KPSS Kamu Personel Seçme Sınavı 2026-KPSS Lisans (Alan Bilgisi) 2. gün Geç Başvuru Başlangıç
END:VEVENT
END:VCALENDAR
