BEGIN:VCALENDAR
VERSION:2.0
PRODID:itakvim.com
METHOD:PUBLISH
UID:e35c3425-f937-4e99-4f98-08de9f183112
X-WR-CALNAME:DUS Diş Hekimliğinde Uzmanlık Eğitimi Giriş Sınavı 2026-DUS 2.Dönem Sınav
X-ITAKVIM-LANGUAGE:tr
X-ITAKVIM-REGION:TR
CALSCALE:GREGORIAN
BEGIN:VEVENT
UID:e35c3425-f937-4e99-4f98-08de9f183112
DTSTAMP:20260420T200538Z
DTSTART:20261031T210000Z
DTEND:20261031T210000Z
TRANSP:TRANSPARENT
STATUS:CONFIRMED
SUMMARY:DUS Diş Hekimliğinde Uzmanlık Eğitimi Giriş Sınavı 2026-DUS 2.Dönem Sınav
END:VEVENT
END:VCALENDAR
