BEGIN:VCALENDAR
VERSION:2.0
PRODID:itakvim.com
METHOD:PUBLISH
UID:e6b732bb-65ab-4b7d-533d-08de9f183112
X-WR-CALNAME:Konya Üniversite Tercih Fuarı
X-ITAKVIM-LANGUAGE:tr
X-ITAKVIM-REGION:TR
CALSCALE:GREGORIAN
BEGIN:VEVENT
UID:e6b732bb-65ab-4b7d-533d-08de9f183112
DTSTAMP:20260420T200816Z
DTSTART:20260728T060000Z
DTEND:20260728T150000Z
TRANSP:TRANSPARENT
STATUS:CONFIRMED
SUMMARY:Konya Üniversite Tercih Fuarı
DESCRIPTION:Tercih Fuarcılık Limited Şirketi tarafından düzenlenen eğitim , üniversite tanıtımı, üniversite tercih konulu fuarda görüşmek üzere: 

Web:www.tercihfuari.com
E-Posta: info@artitercih.com
LOCATION:Dedeman Konya Hotel & Convention Center
END:VEVENT
END:VCALENDAR
