BEGIN:VCALENDAR
VERSION:2.0
PRODID:itakvim.com
METHOD:PUBLISH
UID:e70ebca2-608c-4dcf-dd26-08de9c03c470
X-WR-CALNAME:BEŞİKTAŞ A.Ş. - TRABZONSPOR A.Ş.
X-ITAKVIM-LANGUAGE:tr
X-ITAKVIM-REGION:TR
CALSCALE:GREGORIAN
BEGIN:VEVENT
UID:e70ebca2-608c-4dcf-dd26-08de9c03c470
DTSTAMP:20260416T220746Z
DTSTART:20260509T210000Z
DTEND:20260509T210000Z
TRANSP:TRANSPARENT
STATUS:CONFIRMED
SUMMARY:BEŞİKTAŞ A.Ş. - TRABZONSPOR A.Ş.
LOCATION:BEŞİKTAŞ PARK - İSTANBUL
END:VEVENT
END:VCALENDAR
