BEGIN:VCALENDAR
VERSION:2.0
PRODID:itakvim.com
METHOD:PUBLISH
UID:e7a97d0d-42b7-4225-52dc-08de9f183112
X-WR-CALNAME:Woodtech 2026 - 39.Uluslararası Ağaç İşleme Makineleri, Kesici Takımlar, El Aletleri Fuarı
X-ITAKVIM-LANGUAGE:tr
X-ITAKVIM-REGION:TR
CALSCALE:GREGORIAN
BEGIN:VEVENT
UID:e7a97d0d-42b7-4225-52dc-08de9f183112
DTSTAMP:20260420T200816Z
DTSTART:20261022T060000Z
DTEND:20261025T150000Z
TRANSP:TRANSPARENT
STATUS:CONFIRMED
SUMMARY:Woodtech 2026 - 39.Uluslararası Ağaç İşleme Makineleri, Kesici Takımlar, El Aletleri Fuarı
DESCRIPTION:Reed Tüyap Fuarcılık Anonim Şirketi tarafından düzenlenen ağaç İşleme makineleri, mobilya İmal  makine ve tezgahları, kesici takımlar, el aletleri konulu fuarda görüşmek üzere: 

Web:www.tuyap.com.tr
E-Posta: isilgordi@hotmail.com
LOCATION:Tüyap Fuar Ve Kongre Merkezi
END:VEVENT
END:VCALENDAR
