BEGIN:VCALENDAR
VERSION:2.0
PRODID:itakvim.com
METHOD:PUBLISH
UID:e85815d1-3a42-4969-5103-08de9f183112
X-WR-CALNAME:Hollanda Grand Prix'si Birinci antrenman
X-ITAKVIM-LANGUAGE:tr
X-ITAKVIM-REGION:TR
CALSCALE:GREGORIAN
BEGIN:VEVENT
UID:e85815d1-3a42-4969-5103-08de9f183112
DTSTAMP:20260420T200718Z
DTSTART:20260821T103000Z
DTEND:20260821T103000Z
TRANSP:TRANSPARENT
STATUS:CONFIRMED
SUMMARY:Hollanda Grand Prix'si Birinci antrenman
END:VEVENT
END:VCALENDAR
