BEGIN:VCALENDAR
VERSION:2.0
PRODID:itakvim.com
METHOD:PUBLISH
UID:e91253ef-0394-4ce8-4f1f-08de9f183112
X-WR-CALNAME:TR-YÖS Türkiye Yurt Dışından Öğrenci Kabul Sınavı 2026-TR-YÖS/2 Sınav
X-ITAKVIM-LANGUAGE:tr
X-ITAKVIM-REGION:TR
CALSCALE:GREGORIAN
BEGIN:VEVENT
UID:e91253ef-0394-4ce8-4f1f-08de9f183112
DTSTAMP:20260420T200538Z
DTSTART:20261010T210000Z
DTEND:20261010T210000Z
TRANSP:TRANSPARENT
STATUS:CONFIRMED
SUMMARY:TR-YÖS Türkiye Yurt Dışından Öğrenci Kabul Sınavı 2026-TR-YÖS/2 Sınav
END:VEVENT
END:VCALENDAR
