BEGIN:VCALENDAR
VERSION:2.0
PRODID:itakvim.com
METHOD:PUBLISH
UID:e94d4841-0c2f-4832-50c4-08de9f183112
X-WR-CALNAME:Matta Fair
X-ITAKVIM-LANGUAGE:tr
X-ITAKVIM-REGION:TR
CALSCALE:GREGORIAN
BEGIN:VEVENT
UID:e94d4841-0c2f-4832-50c4-08de9f183112
DTSTAMP:20260420T200713Z
DTSTART:20260904T060000Z
DTEND:20260906T150000Z
TRANSP:TRANSPARENT
STATUS:CONFIRMED
SUMMARY:Matta Fair
LOCATION:Kuala Lumpur, Malezya
END:VEVENT
END:VCALENDAR
