BEGIN:VCALENDAR
VERSION:2.0
PRODID:itakvim.com
METHOD:PUBLISH
UID:e9d8dbd2-dc10-4706-4ecc-08de9f183112
X-WR-CALNAME:YKS Yükseköğretim Kurumları Sınavı 2026-YKS 2. Oturum (AYT) Sonuç
X-ITAKVIM-LANGUAGE:tr
X-ITAKVIM-REGION:TR
CALSCALE:GREGORIAN
BEGIN:VEVENT
UID:e9d8dbd2-dc10-4706-4ecc-08de9f183112
DTSTAMP:20260420T200538Z
DTSTART:20260721T210000Z
DTEND:20260721T210000Z
TRANSP:TRANSPARENT
STATUS:CONFIRMED
SUMMARY:YKS Yükseköğretim Kurumları Sınavı 2026-YKS 2. Oturum (AYT) Sonuç
END:VEVENT
END:VCALENDAR
