BEGIN:VCALENDAR
VERSION:2.0
PRODID:itakvim.com
METHOD:PUBLISH
UID:e9ff2d59-c6b6-45e1-d5fb-08de9fecec0c
X-WR-CALNAME:e-YDS Elektronik Yabancı Dil Sınavı (e-YDS 2026/5 İspanyolca/İtalyanca) ***** Sonuç
X-ITAKVIM-LANGUAGE:tr
X-ITAKVIM-REGION:TR
CALSCALE:GREGORIAN
BEGIN:VEVENT
UID:e9ff2d59-c6b6-45e1-d5fb-08de9fecec0c
DTSTAMP:20260421T212824Z
DTSTART:20260502T210000Z
DTEND:20260502T210000Z
TRANSP:TRANSPARENT
STATUS:CONFIRMED
SUMMARY:e-YDS Elektronik Yabancı Dil Sınavı (e-YDS 2026/5 İspanyolca/İtalyanca) ***** Sonuç
END:VEVENT
END:VCALENDAR
