BEGIN:VCALENDAR
VERSION:2.0
PRODID:itakvim.com
METHOD:PUBLISH
UID:eaf16634-5507-468a-5322-08de9f183112
X-WR-CALNAME:Anatex Anadolu Döşemelik Kumaş, Deri Ve Üretim Teknolojileri
X-ITAKVIM-LANGUAGE:tr
X-ITAKVIM-REGION:TR
CALSCALE:GREGORIAN
BEGIN:VEVENT
UID:eaf16634-5507-468a-5322-08de9f183112
DTSTAMP:20260420T200816Z
DTSTART:20261119T060000Z
DTEND:20261122T150000Z
TRANSP:TRANSPARENT
STATUS:CONFIRMED
SUMMARY:Anatex Anadolu Döşemelik Kumaş, Deri Ve Üretim Teknolojileri
DESCRIPTION:Nobel Expo Uluslararası Fuarcılık Anonim Şirketi tarafından düzenlenen döşemelik kumaş, deri ve üretim teknolojileri konulu fuarda görüşmek üzere: 

Web:www.nobelanatex.com
E-Posta: info@nobelexpo.com
LOCATION:Kayseri Osb Fuar Ve Kongre Merkezi
END:VEVENT
END:VCALENDAR
