BEGIN:VCALENDAR
VERSION:2.0
PRODID:itakvim.com
METHOD:PUBLISH
UID:ebc470bf-fdff-49aa-51cb-08de9f183112
X-WR-CALNAME:Yaz Öğretimi Sonu Sınavına Girebilme Koşulunu Yerine Getiremeyen Öğrencilerin Listesinin İlanı
X-ITAKVIM-LANGUAGE:tr
X-ITAKVIM-REGION:TR
CALSCALE:GREGORIAN
BEGIN:VEVENT
UID:ebc470bf-fdff-49aa-51cb-08de9f183112
DTSTAMP:20260420T200724Z
DTSTART:20260802T210000Z
DTEND:20260806T210000Z
TRANSP:TRANSPARENT
STATUS:CONFIRMED
SUMMARY:Yaz Öğretimi Sonu Sınavına Girebilme Koşulunu Yerine Getiremeyen Öğrencilerin Listesinin İlanı
END:VEVENT
END:VCALENDAR
