BEGIN:VCALENDAR
VERSION:2.0
PRODID:itakvim.com
METHOD:PUBLISH
UID:ebe4480f-c5b6-4ef2-59bd-08de9f8ee600
X-WR-CALNAME:Ida Türkiye - Savunma Ve Havacılıkta Endüstriyel İşbirliği Günleri Ve Fuarı
X-ITAKVIM-LANGUAGE:tr
X-ITAKVIM-REGION:TR
CALSCALE:GREGORIAN
BEGIN:VEVENT
UID:ebe4480f-c5b6-4ef2-59bd-08de9f8ee600
DTSTAMP:20260421T101545Z
DTSTART:20261014T060000Z
DTEND:20261016T150000Z
TRANSP:TRANSPARENT
STATUS:CONFIRMED
SUMMARY:Ida Türkiye - Savunma Ve Havacılıkta Endüstriyel İşbirliği Günleri Ve Fuarı
DESCRIPTION:Ostim Proje Ve Teknoloji Gelişim Eğitim Danışmanlık Hizmetleri Anonim Şirketi tarafından düzenlenen savunma ve askeri ve sivil havacılık teknolojileri konulu fuarda görüşmek üzere: 

Web:www.icdda.com.tr
E-Posta: mbiber@omedya.com
LOCATION:Ato Kongre Ve Sergi Sarayı 'Congresıum'
END:VEVENT
END:VCALENDAR
