BEGIN:VCALENDAR
VERSION:2.0
PRODID:itakvim.com
METHOD:PUBLISH
UID:ecbe3964-7eb5-48cc-4f37-08de9f183112
X-WR-CALNAME:ALES Akademik Personel ve Lisansüstü Eğitimi Giriş Sınavı 2026-ALES/2 Sınav
X-ITAKVIM-LANGUAGE:tr
X-ITAKVIM-REGION:TR
CALSCALE:GREGORIAN
BEGIN:VEVENT
UID:ecbe3964-7eb5-48cc-4f37-08de9f183112
DTSTAMP:20260420T200538Z
DTSTART:20260725T210000Z
DTEND:20260725T210000Z
TRANSP:TRANSPARENT
STATUS:CONFIRMED
SUMMARY:ALES Akademik Personel ve Lisansüstü Eğitimi Giriş Sınavı 2026-ALES/2 Sınav
END:VEVENT
END:VCALENDAR
