BEGIN:VCALENDAR
VERSION:2.0
PRODID:itakvim.com
METHOD:PUBLISH
UID:ecfa77ad-35ac-408f-52db-08de9f183112
X-WR-CALNAME:Avrasya Ambalaj 2026- İstanbul 31.Uluslararası Ambalaj Endüstrisi Fuarı (Printpack&Converting-Ambalaj Baskı Teknolojileri, Oluklu Mukavva-Kağıt-Karton Ambalaj Üretim Teknolojileri Özel Bölümü) /Foodtech Eurasia Gıda İçecek Üretim Ve İşleme Teknolojileri Özel Bölümü
X-ITAKVIM-LANGUAGE:tr
X-ITAKVIM-REGION:TR
CALSCALE:GREGORIAN
BEGIN:VEVENT
UID:ecfa77ad-35ac-408f-52db-08de9f183112
DTSTAMP:20260420T200816Z
DTSTART:20261013T060000Z
DTEND:20261016T150000Z
TRANSP:TRANSPARENT
STATUS:CONFIRMED
SUMMARY:Avrasya Ambalaj 2026- İstanbul 31.Uluslararası Ambalaj Endüstrisi Fuarı (Printpack&Converting-Ambalaj Baskı Teknolojileri, Oluklu Mukavva-Kağıt-Karton Ambalaj Üretim Teknolojileri Özel Bölümü) /Foodtech Eurasia Gıda İçecek Üretim Ve İşleme Teknolojileri Özel Bölümü
DESCRIPTION:Reed Tüyap Fuarcılık Anonim Şirketi tarafından düzenlenen ambalaj ürünleri, makineleri, İçecek ve sıvı gıda teknolojileri, baskı teknolojiler, oluklu mukavva karton, gıda İçecek üretim ve İşleme teknolojileri konulu fuarda görüşmek üzere: 

Web:www.tuyap.com.tr
E-Posta: isilgordi@hotmail.com
LOCATION:Tüyap Fuar Ve Kongre Merkezi
END:VEVENT
END:VCALENDAR
