BEGIN:VCALENDAR
VERSION:2.0
PRODID:itakvim.com
METHOD:PUBLISH
UID:ed573439-c224-441d-4f67-08de9f183112
X-WR-CALNAME:e-TEP Elektronik İngilizce Yeterlik Sınavı/Electronic-Test of English Proficiency (e-TEP 2026/3 İngilizce) ******* Başvuru Başlangıç
X-ITAKVIM-LANGUAGE:tr
X-ITAKVIM-REGION:TR
CALSCALE:GREGORIAN
BEGIN:VEVENT
UID:ed573439-c224-441d-4f67-08de9f183112
DTSTAMP:20260420T200538Z
DTSTART:20260630T210000Z
DTEND:20260630T210000Z
TRANSP:TRANSPARENT
STATUS:CONFIRMED
SUMMARY:e-TEP Elektronik İngilizce Yeterlik Sınavı/Electronic-Test of English Proficiency (e-TEP 2026/3 İngilizce) ******* Başvuru Başlangıç
END:VEVENT
END:VCALENDAR
