BEGIN:VCALENDAR
VERSION:2.0
PRODID:itakvim.com
METHOD:PUBLISH
UID:efffc8ce-b72f-4462-58fc-08de9f8ee600
X-WR-CALNAME:Hoteltech Antalya - Otel Teknik Ekipman Ve Malzemeleri İhtisas Fuarı
X-ITAKVIM-LANGUAGE:tr
X-ITAKVIM-REGION:TR
CALSCALE:GREGORIAN
BEGIN:VEVENT
UID:efffc8ce-b72f-4462-58fc-08de9f8ee600
DTSTAMP:20260421T101546Z
DTSTART:20261210T060000Z
DTEND:20261212T150000Z
TRANSP:TRANSPARENT
STATUS:CONFIRMED
SUMMARY:Hoteltech Antalya - Otel Teknik Ekipman Ve Malzemeleri İhtisas Fuarı
DESCRIPTION:Plan T İthalat İhracat Fuarcılık Sanayi Ve Ticaret Limited Şirketi tarafından düzenlenen otel teknik ekipman ve malzemeleri konulu fuarda görüşmek üzere: 

Web:www.hoteltechantalya.com
E-Posta: hakan@plan-t.com.tr
LOCATION:Nest Kongre Ve Fuar Merkezi Belek
END:VEVENT
END:VCALENDAR
