BEGIN:VCALENDAR
VERSION:2.0
PRODID:itakvim.com
METHOD:PUBLISH
UID:f114a093-b1d5-4fd2-4eef-08de9f183112
X-WR-CALNAME:KPSS Kamu Personel Seçme Sınavı 2026-KPSS Lisans (Alan Bilgisi) 1. gün Geç Başvuru Bitiş
X-ITAKVIM-LANGUAGE:tr
X-ITAKVIM-REGION:TR
CALSCALE:GREGORIAN
BEGIN:VEVENT
UID:f114a093-b1d5-4fd2-4eef-08de9f183112
DTSTAMP:20260420T200538Z
DTSTART:20260723T205900Z
DTEND:20260723T205900Z
TRANSP:TRANSPARENT
STATUS:CONFIRMED
SUMMARY:KPSS Kamu Personel Seçme Sınavı 2026-KPSS Lisans (Alan Bilgisi) 1. gün Geç Başvuru Bitiş
END:VEVENT
END:VCALENDAR
