BEGIN:VCALENDAR
VERSION:2.0
PRODID:itakvim.com
METHOD:PUBLISH
UID:f155c407-4456-4acb-531d-08de9f183112
X-WR-CALNAME:Şanlıurfa Gıda Yöresel Ürünler Hediyelik Eşya Ve El Sanatları Fuarı
X-ITAKVIM-LANGUAGE:tr
X-ITAKVIM-REGION:TR
CALSCALE:GREGORIAN
BEGIN:VEVENT
UID:f155c407-4456-4acb-531d-08de9f183112
DTSTAMP:20260420T200816Z
DTSTART:20261009T060000Z
DTEND:20261018T150000Z
TRANSP:TRANSPARENT
STATUS:CONFIRMED
SUMMARY:Şanlıurfa Gıda Yöresel Ürünler Hediyelik Eşya Ve El Sanatları Fuarı
DESCRIPTION:Medyatrend Fuarcılık Sanayi Ve Ticaret Limited Şirketi tarafından düzenlenen şanlıurfa gıda yöresel ürünler tekstil hediyelik eşya ve el sanatları fuarı konulu fuarda görüşmek üzere: 

Web:www.medyatrend.com.tr
E-Posta: medyatrend@hotmail.com
LOCATION:Şanlıurfa Fuar Merkezi
END:VEVENT
END:VCALENDAR
