BEGIN:VCALENDAR
VERSION:2.0
PRODID:itakvim.com
METHOD:PUBLISH
UID:f28c7b67-07e8-4a88-4fc7-08de9f183112
X-WR-CALNAME:MEB-AGS Millî Eğitim Bakanlığı Akademi Giriş Sınavı 2026-MEB-AGS (Akademi Giriş Sınavı (AGS), Öğretmenlik Alan Bilgisi Testi (ÖABT)) Sonuç
X-ITAKVIM-LANGUAGE:tr
X-ITAKVIM-REGION:TR
CALSCALE:GREGORIAN
BEGIN:VEVENT
UID:f28c7b67-07e8-4a88-4fc7-08de9f183112
DTSTAMP:20260420T200538Z
DTSTART:20260811T210000Z
DTEND:20260811T210000Z
TRANSP:TRANSPARENT
STATUS:CONFIRMED
SUMMARY:MEB-AGS Millî Eğitim Bakanlığı Akademi Giriş Sınavı 2026-MEB-AGS (Akademi Giriş Sınavı (AGS), Öğretmenlik Alan Bilgisi Testi (ÖABT)) Sonuç
END:VEVENT
END:VCALENDAR
