BEGIN:VCALENDAR
VERSION:2.0
PRODID:itakvim.com
METHOD:PUBLISH
UID:f360d170-a98b-4f82-4ef7-08de9f183112
X-WR-CALNAME:KPSS Kamu Personel Seçme Sınavı 2026-KPSS Ön Lisans Sınav
X-ITAKVIM-LANGUAGE:tr
X-ITAKVIM-REGION:TR
CALSCALE:GREGORIAN
BEGIN:VEVENT
UID:f360d170-a98b-4f82-4ef7-08de9f183112
DTSTAMP:20260420T200538Z
DTSTART:20261003T210000Z
DTEND:20261003T210000Z
TRANSP:TRANSPARENT
STATUS:CONFIRMED
SUMMARY:KPSS Kamu Personel Seçme Sınavı 2026-KPSS Ön Lisans Sınav
END:VEVENT
END:VCALENDAR
