BEGIN:VCALENDAR
VERSION:2.0
PRODID:itakvim.com
METHOD:PUBLISH
UID:f37f0d0d-57a7-44d5-50ff-08de9f183112
X-WR-CALNAME:Macaristan Grand Prix'si İkinci antrenman
X-ITAKVIM-LANGUAGE:tr
X-ITAKVIM-REGION:TR
CALSCALE:GREGORIAN
BEGIN:VEVENT
UID:f37f0d0d-57a7-44d5-50ff-08de9f183112
DTSTAMP:20260420T200718Z
DTSTART:20260724T150000Z
DTEND:20260724T150000Z
TRANSP:TRANSPARENT
STATUS:CONFIRMED
SUMMARY:Macaristan Grand Prix'si İkinci antrenman
END:VEVENT
END:VCALENDAR
