BEGIN:VCALENDAR
VERSION:2.0
PRODID:itakvim.com
METHOD:PUBLISH
UID:f3f8786e-ede5-4c48-527b-08de9f183112
X-WR-CALNAME:Aysaf 2026 Ayakkabı Yan Sanayi Fuarı
X-ITAKVIM-LANGUAGE:tr
X-ITAKVIM-REGION:TR
CALSCALE:GREGORIAN
BEGIN:VEVENT
UID:f3f8786e-ede5-4c48-527b-08de9f183112
DTSTAMP:20260420T200816Z
DTSTART:20260421T060000Z
DTEND:20260424T150000Z
TRANSP:TRANSPARENT
STATUS:CONFIRMED
SUMMARY:Aysaf 2026 Ayakkabı Yan Sanayi Fuarı
DESCRIPTION:Cng Fuarcılık Ve Tanıtım Hizmetleri Anonim Şirketi tarafından düzenlenen ayakkabı komponentleri, deri, aksesuarlar, kimyasallar, makine ve teknolojileri konulu fuarda görüşmek üzere: 

Web:aysafexpo.com
E-Posta: cengizyaman@cngexpo.com
LOCATION:İstanbul Fuar Merkezi
END:VEVENT
END:VCALENDAR
