BEGIN:VCALENDAR
VERSION:2.0
PRODID:itakvim.com
METHOD:PUBLISH
UID:f436e486-30f8-47be-5989-08de9f8ee600
X-WR-CALNAME:Eskişehir 5. Kitap Fuarı
X-ITAKVIM-LANGUAGE:tr
X-ITAKVIM-REGION:TR
CALSCALE:GREGORIAN
BEGIN:VEVENT
UID:f436e486-30f8-47be-5989-08de9f8ee600
DTSTAMP:20260421T101545Z
DTSTART:20260509T060000Z
DTEND:20260517T150000Z
TRANSP:TRANSPARENT
STATUS:CONFIRMED
SUMMARY:Eskişehir 5. Kitap Fuarı
DESCRIPTION:Tüyap Tüm Fuarcılık Yapım Anonim Şirketi tarafından düzenlenen kitap, süreli yayın, gazete ve dergi yayıncılığı, medya kuruluşları, sivil toplum kuruluşları,  yerel yönetimler konulu fuarda görüşmek üzere: 

Web:www.tuyap.com.tr
E-Posta: tuyap@tuyap.com.tr
LOCATION:Eto-Tüyap Fuar Merkezi
END:VEVENT
END:VCALENDAR
