BEGIN:VCALENDAR
VERSION:2.0
PRODID:itakvim.com
METHOD:PUBLISH
UID:f4869e2f-f1b1-4e65-d2ee-08de9f271cd7
X-WR-CALNAME:Mart 2026 Dönemi Katma Değer Vergisi Tevkifatı Beyan ve Ödemesi Son Gün
X-ITAKVIM-LANGUAGE:tr
X-ITAKVIM-REGION:TR
CALSCALE:GREGORIAN
BEGIN:VEVENT
UID:f4869e2f-f1b1-4e65-d2ee-08de9f271cd7
DTSTAMP:20260420T215235Z
DTSTART:20260427T140000Z
DTEND:20260427T140000Z
TRANSP:TRANSPARENT
STATUS:CONFIRMED
SUMMARY:Mart 2026 Dönemi Katma Değer Vergisi Tevkifatı Beyan ve Ödemesi Son Gün
DESCRIPTION:Mart 2026 Dönemine Ait Vergi Sorumlularının Tevkif Ettikleri Katma Değer Vergisinin Beyanı ve Ödemesi
END:VEVENT
END:VCALENDAR
