BEGIN:VCALENDAR
VERSION:2.0
PRODID:itakvim.com
METHOD:PUBLISH
UID:f6ac668e-0d2f-444d-5a0d-08de9f8ee600
X-WR-CALNAME:Studyexpo Yurtdışı Eğitim Fuarı
X-ITAKVIM-LANGUAGE:tr
X-ITAKVIM-REGION:TR
CALSCALE:GREGORIAN
BEGIN:VEVENT
UID:f6ac668e-0d2f-444d-5a0d-08de9f8ee600
DTSTAMP:20260421T101546Z
DTSTART:20261006T060000Z
DTEND:20261006T150000Z
TRANSP:TRANSPARENT
STATUS:CONFIRMED
SUMMARY:Studyexpo Yurtdışı Eğitim Fuarı
DESCRIPTION:Study Expo Fuarcılık A.Ş. tarafından düzenlenen yurtdışı eğitim fuarı konulu fuarda görüşmek üzere: 

Web:www.studyexpo.com
E-Posta: info@studyexpo.com
LOCATION:Mövenpick Hotel Ankara
END:VEVENT
END:VCALENDAR
