BEGIN:VCALENDAR
VERSION:2.0
PRODID:itakvim.com
METHOD:PUBLISH
UID:f6fa427b-19a7-4022-4f3b-08de9f183112
X-WR-CALNAME:ALES Akademik Personel ve Lisansüstü Eğitimi Giriş Sınavı 2026-ALES/2 Geç Başvuru Bitiş
X-ITAKVIM-LANGUAGE:tr
X-ITAKVIM-REGION:TR
CALSCALE:GREGORIAN
BEGIN:VEVENT
UID:f6fa427b-19a7-4022-4f3b-08de9f183112
DTSTAMP:20260420T200538Z
DTSTART:20260625T205900Z
DTEND:20260625T205900Z
TRANSP:TRANSPARENT
STATUS:CONFIRMED
SUMMARY:ALES Akademik Personel ve Lisansüstü Eğitimi Giriş Sınavı 2026-ALES/2 Geç Başvuru Bitiş
END:VEVENT
END:VCALENDAR
