BEGIN:VCALENDAR
VERSION:2.0
PRODID:itakvim.com
METHOD:PUBLISH
UID:f8506551-e6eb-48bc-5326-08de9f183112
X-WR-CALNAME:Adana Otomotiv Ve Mobilite Fuarı
X-ITAKVIM-LANGUAGE:tr
X-ITAKVIM-REGION:TR
CALSCALE:GREGORIAN
BEGIN:VEVENT
UID:f8506551-e6eb-48bc-5326-08de9f183112
DTSTAMP:20260420T200816Z
DTSTART:20261022T060000Z
DTEND:20261025T150000Z
TRANSP:TRANSPARENT
STATUS:CONFIRMED
SUMMARY:Adana Otomotiv Ve Mobilite Fuarı
DESCRIPTION:Anatolia Fuar Anonim Şirketi tarafından düzenlenen otomotiv , mobilite , motorsiklet ve aksesuarları konulu fuarda görüşmek üzere: 

Web:www.anatoliagrup.com.tr
E-Posta: info@anatoliagrup.com.tr
LOCATION:Adana Uluslararası  Fuar Ve Kongre Merkezi
END:VEVENT
END:VCALENDAR
