BEGIN:VCALENDAR
VERSION:2.0
PRODID:itakvim.com
METHOD:PUBLISH
UID:f89a5e77-5513-4cde-4f13-08de9f183112
X-WR-CALNAME:ÖZYES YKS Kapsamında Spor Bilimleri İçin Özel Yetenek Sınavı 2026-ÖZYES Sınav
X-ITAKVIM-LANGUAGE:tr
X-ITAKVIM-REGION:TR
CALSCALE:GREGORIAN
BEGIN:VEVENT
UID:f89a5e77-5513-4cde-4f13-08de9f183112
DTSTAMP:20260420T200538Z
DTSTART:20260814T210000Z
DTEND:20260817T210000Z
TRANSP:TRANSPARENT
STATUS:CONFIRMED
SUMMARY:ÖZYES YKS Kapsamında Spor Bilimleri İçin Özel Yetenek Sınavı 2026-ÖZYES Sınav
END:VEVENT
END:VCALENDAR
