BEGIN:VCALENDAR
VERSION:2.0
PRODID:itakvim.com
METHOD:PUBLISH
UID:f8c6fb4f-a885-4fa5-5238-08de9f183112
X-WR-CALNAME:Bahar Yarıyılı Sınav Notlarının Son Giriş Tarihi
X-ITAKVIM-LANGUAGE:tr
X-ITAKVIM-REGION:TR
CALSCALE:GREGORIAN
BEGIN:VEVENT
UID:f8c6fb4f-a885-4fa5-5238-08de9f183112
DTSTAMP:20260420T200724Z
DTSTART:20260621T110000Z
DTEND:20260621T110000Z
TRANSP:TRANSPARENT
STATUS:CONFIRMED
SUMMARY:Bahar Yarıyılı Sınav Notlarının Son Giriş Tarihi
END:VEVENT
END:VCALENDAR
