BEGIN:VCALENDAR
VERSION:2.0
PRODID:itakvim.com
METHOD:PUBLISH
UID:fa69bc51-564b-411f-4fc0-08de9f183112
X-WR-CALNAME:DGS Dikey Geçiş Sınavı 2026-DGS Geç Başvuru Bitiş
X-ITAKVIM-LANGUAGE:tr
X-ITAKVIM-REGION:TR
CALSCALE:GREGORIAN
BEGIN:VEVENT
UID:fa69bc51-564b-411f-4fc0-08de9f183112
DTSTAMP:20260420T200538Z
DTSTART:20260611T205900Z
DTEND:20260611T205900Z
TRANSP:TRANSPARENT
STATUS:CONFIRMED
SUMMARY:DGS Dikey Geçiş Sınavı 2026-DGS Geç Başvuru Bitiş
END:VEVENT
END:VCALENDAR
