BEGIN:VCALENDAR
VERSION:2.0
PRODID:itakvim.com
METHOD:PUBLISH
UID:fc9e13e3-8d48-4ec5-50e0-08de9f183112
X-WR-CALNAME:Kanada Grand Prix'si Birinci antrenman
X-ITAKVIM-LANGUAGE:tr
X-ITAKVIM-REGION:TR
CALSCALE:GREGORIAN
BEGIN:VEVENT
UID:fc9e13e3-8d48-4ec5-50e0-08de9f183112
DTSTAMP:20260420T200718Z
DTSTART:20260522T163000Z
DTEND:20260522T163000Z
TRANSP:TRANSPARENT
STATUS:CONFIRMED
SUMMARY:Kanada Grand Prix'si Birinci antrenman
END:VEVENT
END:VCALENDAR
