BEGIN:VCALENDAR
VERSION:2.0
PRODID:itakvim.com
METHOD:PUBLISH
UID:fe32c423-a326-4449-5102-08de9f183112
X-WR-CALNAME:Macaristan Grand Prix'si Yarış
X-ITAKVIM-LANGUAGE:tr
X-ITAKVIM-REGION:TR
CALSCALE:GREGORIAN
BEGIN:VEVENT
UID:fe32c423-a326-4449-5102-08de9f183112
DTSTAMP:20260420T200718Z
DTSTART:20260726T130000Z
DTEND:20260726T130000Z
TRANSP:TRANSPARENT
STATUS:CONFIRMED
SUMMARY:Macaristan Grand Prix'si Yarış
END:VEVENT
END:VCALENDAR
