BEGIN:VCALENDAR
VERSION:2.0
PRODID:itakvim.com
METHOD:PUBLISH
UID:fee96a21-ffdb-4961-52c6-08de9f183112
X-WR-CALNAME:Trend Ev Fuarı
X-ITAKVIM-LANGUAGE:tr
X-ITAKVIM-REGION:TR
CALSCALE:GREGORIAN
BEGIN:VEVENT
UID:fee96a21-ffdb-4961-52c6-08de9f183112
DTSTAMP:20260420T200817Z
DTSTART:20261115T060000Z
DTEND:20261118T150000Z
TRANSP:TRANSPARENT
STATUS:CONFIRMED
SUMMARY:Trend Ev Fuarı
DESCRIPTION:Partner Fuarcılık Limited Şirketi tarafından düzenlenen ev gereçleri, züccaciye, ev tekstil malzemeleri,plastik ev gereçleri konulu fuarda görüşmek üzere: 

Web:www.partnerfuar.com
E-Posta: info@partnerfuar.com
LOCATION:Pine Beach Belek
END:VEVENT
END:VCALENDAR
