BEGIN:VCALENDAR
VERSION:2.0
PRODID:itakvim.com
METHOD:PUBLISH
UID:fef95daf-ea72-4669-4f8e-08de9f183112
X-WR-CALNAME:e-YÖKDİL Elektronik Yükseköğretim Kurumları Yabancı Dil Sınavı (e-YÖKDİL 2026/3 İngilizce-Fen Bilimleri) ****** Sınav
X-ITAKVIM-LANGUAGE:tr
X-ITAKVIM-REGION:TR
CALSCALE:GREGORIAN
BEGIN:VEVENT
UID:fef95daf-ea72-4669-4f8e-08de9f183112
DTSTAMP:20260420T200538Z
DTSTART:20260605T210000Z
DTEND:20260605T210000Z
TRANSP:TRANSPARENT
STATUS:CONFIRMED
SUMMARY:e-YÖKDİL Elektronik Yükseköğretim Kurumları Yabancı Dil Sınavı (e-YÖKDİL 2026/3 İngilizce-Fen Bilimleri) ****** Sınav
END:VEVENT
END:VCALENDAR
