BEGIN:VCALENDAR
VERSION:2.0
PRODID:itakvim.com
METHOD:PUBLISH
UID:ffb84e84-dbb6-4599-d60d-08de9fecec0c
X-WR-CALNAME:e-YDS Elektronik Yabancı Dil Sınavı (e-YDS 2026/10 İngilizce) *** Başvuru Başlangıç
X-ITAKVIM-LANGUAGE:tr
X-ITAKVIM-REGION:TR
CALSCALE:GREGORIAN
BEGIN:VEVENT
UID:ffb84e84-dbb6-4599-d60d-08de9fecec0c
DTSTAMP:20260421T212824Z
DTSTART:20260908T210000Z
DTEND:20260908T210000Z
TRANSP:TRANSPARENT
STATUS:CONFIRMED
SUMMARY:e-YDS Elektronik Yabancı Dil Sınavı (e-YDS 2026/10 İngilizce) *** Başvuru Başlangıç
END:VEVENT
END:VCALENDAR
