BEGIN:VCALENDAR
VERSION:2.0
PRODID:itakvim.com
CALSCALE:GREGORIAN
METHOD:PUBLISH
UID:0ftlsmdqo7b
X-WR-CALNAME:İstanbul Lütfi Kırdar Uluslararası Kongre Ve Sergi Sarayı Takvimi
X-ITAKVIM-LANGUAGE:tr
X-ORIGINAL-URL:itakvim.com
REFRESH-INTERVAL;VALUE=DURATION:PT1H
X-ITAKVIM-REGION:TR
X-Robots-Tag:noindex
X-PUBLISHED-TTL:PT1H
BEGIN:VEVENT
UID:3ca53b29-4371-4706-523d-08de9f183112
DTSTAMP:20260420T200816Z
TRANSP:TRANSPARENT
DTSTART:20260508T060000Z
DTEND:20260510T150000Z
STATUS:CONFIRMED
SUMMARY:Coffex İstanbul
DESCRIPTION:Enc Uluslararası Fuar Organizayon Hizmetleri Sanayi Ve Ticar
 et Limited Şirketi tarafından düzenlenen kahve ve kakao endüstrisi k
 onulu fuarda görüşmek üzere: \n\nWeb:www.coffexistanbul.com\nE-Posta
 : info@encexpo.com
LOCATION:Lütfi Kırdar Uluslararası Kongre Ve Sergi Sarayı
BEGIN:VALARM
ACTION:DISPLAY
DESCRIPTION:Coffex İstanbul
TRIGGER:-PT24H
END:VALARM
END:VEVENT
BEGIN:VEVENT
UID:3314524f-a9d4-4c09-523e-08de9f183112
DTSTAMP:20260420T200816Z
TRANSP:TRANSPARENT
DTSTART:20260612T060000Z
DTEND:20260614T150000Z
STATUS:CONFIRMED
SUMMARY:Organic & Pure
DESCRIPTION:Expotim Uluslararası Fuar Organizasyonları Anonim Şirketi 
 tarafından düzenlenen organik\, doğal ve sağlıklı yaşam fuarı ko
 nulu fuarda görüşmek üzere: \n\nWeb:www.organicandpure.com.tr\nE-Pos
 ta: mert.gul@expotim.com.tr
LOCATION:Lütfi Kırdar Uluslararası Kongre Ve Sergi Sarayı
BEGIN:VALARM
ACTION:DISPLAY
DESCRIPTION:Organic & Pure
TRIGGER:-PT24H
END:VALARM
END:VEVENT
BEGIN:VEVENT
UID:07be3feb-3b90-434a-523f-08de9f183112
DTSTAMP:20260420T200816Z
TRANSP:TRANSPARENT
DTSTART:20260706T060000Z
DTEND:20260707T150000Z
STATUS:CONFIRMED
SUMMARY:18. Umre & Turizm Fuarı 2026
DESCRIPTION:Grup Medya Fuarcılık Limited Şirketi tarafından düzenlen
 en umre turizmine yönelik otel\, havayolu\, acenta\, servis\,.. vb. sek
 törlerinin buluşması konulu fuarda görüşmek üzere: \n\nWeb:www.gr
 upmedya.com.tr\nE-Posta: erhandemirci24@hotmail.com
LOCATION:Lütfi Kırdar Uluslararası Kongre Ve Sergi Sarayı
BEGIN:VALARM
ACTION:DISPLAY
DESCRIPTION:18. Umre & Turizm Fuarı 2026
TRIGGER:-PT24H
END:VALARM
END:VEVENT
BEGIN:VEVENT
UID:fa97f234-8560-4ffc-5240-08de9f183112
DTSTAMP:20260420T200816Z
TRANSP:TRANSPARENT
DTSTART:20260711T060000Z
DTEND:20260712T150000Z
STATUS:CONFIRMED
SUMMARY:Umre Ve Turizm Profesyoneller Fuarı
DESCRIPTION:Huıtm Fuarcılık Hizmetleri Anonim Şirketi tarafından dü
 zenlenen umre ve turizm konulu fuarda görüşmek üzere: \n\nWeb:www.hu
 itm.org\nE-Posta: melissahin1343@gmail.com
LOCATION:Lütfi Kırdar Uluslararası Kongre Ve Sergi Sarayı
BEGIN:VALARM
ACTION:DISPLAY
DESCRIPTION:Umre Ve Turizm Profesyoneller Fuarı
TRIGGER:-PT24H
END:VALARM
END:VEVENT
BEGIN:VEVENT
UID:ea111a34-7387-40f8-5241-08de9f183112
DTSTAMP:20260420T200816Z
TRANSP:TRANSPARENT
DTSTART:20261007T060000Z
DTEND:20261008T150000Z
STATUS:CONFIRMED
SUMMARY:Mobidictum Conference 2026
DESCRIPTION:Mobıdıctum Medya Anonim Şirketi tarafından düzenlenen oy
 un sektöründeki İş İlişkilerinin kurulması ve geliştirilmesi kon
 ulu fuarda görüşmek üzere: \n\nWeb:www.mobidictum.com\nE-Posta: batu
 han@mobidictum.biz
LOCATION:Lütfi Kırdar Uluslararası Kongre Ve Sergi Sarayı
BEGIN:VALARM
ACTION:DISPLAY
DESCRIPTION:Mobidictum Conference 2026
TRIGGER:-PT24H
END:VALARM
END:VEVENT
BEGIN:VEVENT
UID:c33107be-dab0-4f5b-5242-08de9f183112
DTSTAMP:20260420T200816Z
TRANSP:TRANSPARENT
DTSTART:20261014T060000Z
DTEND:20261016T150000Z
STATUS:CONFIRMED
SUMMARY:10. Bıotecnıca Uluslararası Biyoteknoloji, Yaşam Bilimleri Ve
  Endüstrileri Fuarı
DESCRIPTION:Akdeniz Reklamcılık Tanıtım Ve Fuar Hizmetleri Limited Ş
 irketi tarafından düzenlenen biyoproses\, biyoanalitik\, biyoenformasy
 on\, endüstriyel biyoteknoloji\, ar-ge konulu fuarda görüşmek üzere
 : \n\nWeb:www.bioexpo.com.tr\nE-Posta: info@yapex.com
LOCATION:Lütfi Kırdar Uluslararası Kongre Ve Sergi Sarayı
BEGIN:VALARM
ACTION:DISPLAY
DESCRIPTION:10. Bıotecnıca Uluslararası Biyoteknoloji, Yaşam Bilimler
 i Ve Endüstrileri Fuarı
TRIGGER:-PT24H
END:VALARM
END:VEVENT
BEGIN:VEVENT
UID:10ab0d53-2fd0-414a-5243-08de9f183112
DTSTAMP:20260420T200816Z
TRANSP:TRANSPARENT
DTSTART:20261014T060000Z
DTEND:20261016T150000Z
STATUS:CONFIRMED
SUMMARY:9. Analytech Uluslararası Analiz Ve Labaratuvar Teknolojileri, E
 kipmanları Fuarı
DESCRIPTION:Akdeniz Reklamcılık Tanıtım Ve Fuar Hizmetleri Limited Ş
 irketi tarafından düzenlenen analiz ve labaratuvar teknolojileri\, kim
 yasallar\, kalite kontrol ölçümleme konulu fuarda görüşmek üzere:
  \n\nWeb:www.bioexpo.com.tr\nE-Posta: info@yapex.com
LOCATION:Lütfi Kırdar Uluslararası Kongre Ve Sergi Sarayı
BEGIN:VALARM
ACTION:DISPLAY
DESCRIPTION:9. Analytech Uluslararası Analiz Ve Labaratuvar Teknolojiler
 i, Ekipmanları Fuarı
TRIGGER:-PT24H
END:VALARM
END:VEVENT
BEGIN:VEVENT
UID:b9c322c3-f83f-4d0c-5244-08de9f183112
DTSTAMP:20260420T200816Z
TRANSP:TRANSPARENT
DTSTART:20261014T060000Z
DTEND:20261016T150000Z
STATUS:CONFIRMED
SUMMARY:9. Cleanroom Uluslararası Temizoda Teknolojisi, Bakım Ve Donan
 ımları Fuarı
DESCRIPTION:Akdeniz Reklamcılık Tanıtım Ve Fuar Hizmetleri Limited Ş
 irketi tarafından düzenlenen temizoda teknolojisi\, bakımı ve donan
 ımları konulu fuarda görüşmek üzere: \n\nWeb:www.bioexpo.com.tr\nE
 -Posta: info@yapex.com
LOCATION:Lütfi Kırdar Uluslararası Kongre Ve Sergi Sarayı
BEGIN:VALARM
ACTION:DISPLAY
DESCRIPTION:9. Cleanroom Uluslararası Temizoda Teknolojisi, Bakım Ve Do
 nanımları Fuarı
TRIGGER:-PT24H
END:VALARM
END:VEVENT
BEGIN:VEVENT
UID:87519797-3b83-47c6-5245-08de9f183112
DTSTAMP:20260420T200816Z
TRANSP:TRANSPARENT
DTSTART:20261014T060000Z
DTEND:20261016T150000Z
STATUS:CONFIRMED
SUMMARY:7. Pharmanext Uluslararası İlaç Endüstrisi, Teknolojileri Ve 
 Bileşenleri Fuarı
DESCRIPTION:Akdeniz Reklamcılık Tanıtım Ve Fuar Hizmetleri Limited Ş
 irketi tarafından düzenlenen İlaç\, İlaç bileşenleri\, paketleme 
 ve üretim ekipmanları\, kontrat hizmetleri konulu fuarda görüşmek 
 üzere: \n\nWeb:www.bioexpo.com.tr\nE-Posta: info@yapex.com
LOCATION:Lütfi Kırdar Uluslararası Kongre Ve Sergi Sarayı
BEGIN:VALARM
ACTION:DISPLAY
DESCRIPTION:7. Pharmanext Uluslararası İlaç Endüstrisi, Teknolojileri
  Ve Bileşenleri Fuarı
TRIGGER:-PT24H
END:VALARM
END:VEVENT
BEGIN:VEVENT
UID:1f85f4b6-c019-428a-5246-08de9f183112
DTSTAMP:20260420T200816Z
TRANSP:TRANSPARENT
DTSTART:20261203T060000Z
DTEND:20261206T150000Z
STATUS:CONFIRMED
SUMMARY:7. İaaf İstanbul Sanat Ve Antika Fuarı
DESCRIPTION:Demos Endüstri Fuarcılık Anonim Şirketi tarafından düze
 nlenen sanat eserleri antika eşyalar konulu fuarda görüşmek üzere: 
 \n\nWeb:www.demosfuar.com.tr\nE-Posta: info@demosfuar.com.tr
LOCATION:Lütfi Kırdar Uluslararası Kongre Ve Sergi Sarayı
BEGIN:VALARM
ACTION:DISPLAY
DESCRIPTION:7. İaaf İstanbul Sanat Ve Antika Fuarı
TRIGGER:-PT24H
END:VALARM
END:VEVENT
END:VCALENDAR
