BEGIN:VCALENDAR
VERSION:2.0
PRODID:itakvim.com
CALSCALE:GREGORIAN
METHOD:PUBLISH
UID:12uhmqlnlcy
X-WR-CALNAME:Egs Park Fuar Ve Kültür Merkezi Denizli Takvimi
X-ITAKVIM-LANGUAGE:tr
X-ORIGINAL-URL:itakvim.com
REFRESH-INTERVAL;VALUE=DURATION:PT1H
X-ITAKVIM-REGION:TR
X-Robots-Tag:noindex
X-PUBLISHED-TTL:PT1H
BEGIN:VEVENT
UID:9a2c5852-9b1c-414e-8c29-08de9dec68b5
DTSTAMP:20260419T083022Z
TRANSP:TRANSPARENT
DTSTART:20260403T060000Z
DTEND:20260405T150000Z
STATUS:CONFIRMED
SUMMARY:Ege Güzellik Ve Kişisel Bakım Fuarı
DESCRIPTION:İhtisas Fuar Fuarcılık Hizmetleri Yayıncılık Sanayi Tic
 aret Limited Şirketi tarafından düzenlenen ege güzellik ve kişisel 
 bakım fuarı konulu fuarda görüşmek üzere: \n\nWeb:www.ihtisasfuar.
 com.tr\nE-Posta: info@ihtisasfuar.com.tr
LOCATION:Egs Park Fuar Ve Kültür Merkezi Denizli
BEGIN:VALARM
ACTION:DISPLAY
DESCRIPTION:Ege Güzellik Ve Kişisel Bakım Fuarı
TRIGGER:-PT24H
END:VALARM
END:VEVENT
END:VCALENDAR
