BEGIN:VCALENDAR
VERSION:2.0
PRODID:itakvim.com
CALSCALE:GREGORIAN
METHOD:PUBLISH
UID:13qlc64ts77
X-WR-CALNAME:Hilton Mall Of İstanbul Takvimi
X-ITAKVIM-LANGUAGE:tr
X-ORIGINAL-URL:itakvim.com
REFRESH-INTERVAL;VALUE=DURATION:PT1H
X-ITAKVIM-REGION:TR
X-Robots-Tag:noindex
X-PUBLISHED-TTL:PT1H
BEGIN:VEVENT
UID:e6e733e8-ccb7-4827-8c2a-08de9dec68b5
DTSTAMP:20260419T083022Z
TRANSP:TRANSPARENT
DTSTART:20260405T060000Z
DTEND:20260405T150000Z
STATUS:CONFIRMED
SUMMARY:Edıs
DESCRIPTION:Edis Fuarcılık Ticaret Limited Şirketi tarafından düzenl
 enen üniversite tanıtımı konulu fuarda görüşmek üzere: \n\nWeb:w
 ww.unitededucation.com/en/edisglobal\nE-Posta: kurumsal@unitededucation.
 com.tr
LOCATION:Hilton Mall Of İstanbul
BEGIN:VALARM
ACTION:DISPLAY
DESCRIPTION:Edıs
TRIGGER:-PT24H
END:VALARM
END:VEVENT
END:VCALENDAR
