BEGIN:VCALENDAR
VERSION:2.0
PRODID:itakvim.com
CALSCALE:GREGORIAN
METHOD:PUBLISH
UID:1cc92l8fi1v
X-WR-CALNAME:Üsküdar Kerem Yılmazer Sahnesi.
X-ITAKVIM-LANGUAGE:tr
X-ORIGINAL-URL:itakvim.com
REFRESH-INTERVAL;VALUE=DURATION:PT1H
X-ITAKVIM-REGION:TR
X-Robots-Tag:noindex
X-PUBLISHED-TTL:PT1H
BEGIN:VEVENT
UID:421671d1-ae87-4947-cc5a-08de9d98d356
DTSTAMP:20260418T222121Z
TRANSP:TRANSPARENT
DTSTART:20260429T170000Z
DTEND:20260429T170000Z
STATUS:CONFIRMED
SUMMARY:Ben Medea Değilim
LOCATION:Üsküdar Kerem Yılmazer Sahnesi.
END:VEVENT
BEGIN:VEVENT
UID:94ea6bfb-3717-4d41-cc5b-08de9d98d356
DTSTAMP:20260418T222121Z
TRANSP:TRANSPARENT
DTSTART:20260430T170000Z
DTEND:20260430T170000Z
STATUS:CONFIRMED
SUMMARY:Ben Medea Değilim
LOCATION:Üsküdar Kerem Yılmazer Sahnesi.
END:VEVENT
BEGIN:VEVENT
UID:ad979715-a0fc-40da-cc5c-08de9d98d356
DTSTAMP:20260418T222121Z
TRANSP:TRANSPARENT
DTSTART:20260502T120000Z
DTEND:20260502T120000Z
STATUS:CONFIRMED
SUMMARY:Ben Medea Değilim
LOCATION:Üsküdar Kerem Yılmazer Sahnesi.
END:VEVENT
BEGIN:VEVENT
UID:2df45bae-831f-42cb-cc5d-08de9d98d356
DTSTAMP:20260418T222121Z
TRANSP:TRANSPARENT
DTSTART:20260502T170000Z
DTEND:20260502T170000Z
STATUS:CONFIRMED
SUMMARY:Ben Medea Değilim
LOCATION:Üsküdar Kerem Yılmazer Sahnesi.
END:VEVENT
END:VCALENDAR
