BEGIN:VCALENDAR
VERSION:2.0
PRODID:itakvim.com
CALSCALE:GREGORIAN
METHOD:PUBLISH
UID:1cd7ibfoi74
X-WR-CALNAME:Tümosan Konyaspor
X-ITAKVIM-LANGUAGE:tr
X-ORIGINAL-URL:itakvim.com
REFRESH-INTERVAL;VALUE=DURATION:PT1H
X-ITAKVIM-REGION:TR
X-Robots-Tag:noindex
X-PUBLISHED-TTL:PT1H
BEGIN:VEVENT
UID:1f09212e-43b1-49ec-dd0f-08de9c03c470
DTSTAMP:20260416T220746Z
TRANSP:TRANSPARENT
DTSTART:20260417T170000Z
DTEND:20260417T170000Z
STATUS:CONFIRMED
SUMMARY:HESAP.COM ANTALYASPOR - TÜMOSAN KONYASPOR
LOCATION:CORENDON AIRLINES PARK ANTALYA STADI - ANTALYA
BEGIN:VALARM
ACTION:DISPLAY
DESCRIPTION:HESAP.COM ANTALYASPOR - TÜMOSAN KONYASPOR
TRIGGER:PT0S
END:VALARM
END:VEVENT
BEGIN:VEVENT
UID:ea6a3eea-4823-4a23-dd10-08de9c03c470
DTSTAMP:20260416T220746Z
TRANSP:TRANSPARENT
DTSTART:20260427T170000Z
DTEND:20260427T170000Z
STATUS:CONFIRMED
SUMMARY:TÜMOSAN KONYASPOR - TRABZONSPOR A.Ş.
LOCATION:MEDAŞ KONYA BÜYÜKŞEHİR STADYUMU - KONYA
BEGIN:VALARM
ACTION:DISPLAY
DESCRIPTION:TÜMOSAN KONYASPOR - TRABZONSPOR A.Ş.
TRIGGER:PT0S
END:VALARM
END:VEVENT
BEGIN:VEVENT
UID:f962f150-d780-41b1-dd11-08de9c03c470
DTSTAMP:20260416T220746Z
TRANSP:TRANSPARENT
DTSTART:20260502T210000Z
DTEND:20260502T210000Z
STATUS:CONFIRMED
SUMMARY:ÇAYKUR RİZESPOR A.Ş. - TÜMOSAN KONYASPOR
LOCATION:ÇAYKUR DİDİ
BEGIN:VALARM
ACTION:DISPLAY
DESCRIPTION:ÇAYKUR RİZESPOR A.Ş. - TÜMOSAN KONYASPOR
TRIGGER:PT0S
END:VALARM
END:VEVENT
BEGIN:VEVENT
UID:97c1a538-6001-4efe-dd12-08de9c03c470
DTSTAMP:20260416T220746Z
TRANSP:TRANSPARENT
DTSTART:20260509T210000Z
DTEND:20260509T210000Z
STATUS:CONFIRMED
SUMMARY:TÜMOSAN KONYASPOR - FENERBAHÇE A.Ş.
LOCATION:MEDAŞ KONYA BÜYÜKŞEHİR STADYUMU - KONYA
BEGIN:VALARM
ACTION:DISPLAY
DESCRIPTION:TÜMOSAN KONYASPOR - FENERBAHÇE A.Ş.
TRIGGER:PT0S
END:VALARM
END:VEVENT
BEGIN:VEVENT
UID:e8ce0dae-cb96-45f7-dd13-08de9c03c470
DTSTAMP:20260416T220746Z
TRANSP:TRANSPARENT
DTSTART:20260516T210000Z
DTEND:20260516T210000Z
STATUS:CONFIRMED
SUMMARY:ZECORNER KAYSERİSPOR - TÜMOSAN KONYASPOR
LOCATION:RHG ENERTÜRK ENERJİ STADYUMU - KAYSERİ
BEGIN:VALARM
ACTION:DISPLAY
DESCRIPTION:ZECORNER KAYSERİSPOR - TÜMOSAN KONYASPOR
TRIGGER:PT0S
END:VALARM
END:VEVENT
END:VCALENDAR
