BEGIN:VCALENDAR
VERSION:2.0
PRODID:itakvim.com
CALSCALE:GREGORIAN
METHOD:PUBLISH
UID:1dwf4k2j0ya
X-WR-CALNAME:Hesap.Com Antalyaspor
X-ITAKVIM-LANGUAGE:tr
X-ORIGINAL-URL:itakvim.com
REFRESH-INTERVAL;VALUE=DURATION:PT1H
X-ITAKVIM-REGION:TR
X-Robots-Tag:noindex
X-PUBLISHED-TTL:PT1H
BEGIN:VEVENT
UID:ab4a6b36-83db-46de-dd14-08de9c03c470
DTSTAMP:20260416T220746Z
TRANSP:TRANSPARENT
DTSTART:20260417T170000Z
DTEND:20260417T170000Z
STATUS:CONFIRMED
SUMMARY:HESAP.COM ANTALYASPOR - TÜMOSAN KONYASPOR
LOCATION:CORENDON AIRLINES PARK ANTALYA STADI - ANTALYA
BEGIN:VALARM
ACTION:DISPLAY
DESCRIPTION:HESAP.COM ANTALYASPOR - TÜMOSAN KONYASPOR
TRIGGER:PT0S
END:VALARM
END:VEVENT
BEGIN:VEVENT
UID:b3285ada-93d8-47f6-dd15-08de9c03c470
DTSTAMP:20260416T220746Z
TRANSP:TRANSPARENT
DTSTART:20260425T170000Z
DTEND:20260425T170000Z
STATUS:CONFIRMED
SUMMARY:GÖZTEPE A.Ş. - HESAP.COM ANTALYASPOR
LOCATION:ISONEM PARK GÜRSEL AKSEL SPOR VE SAĞLIKLI YAŞAM M.
BEGIN:VALARM
ACTION:DISPLAY
DESCRIPTION:GÖZTEPE A.Ş. - HESAP.COM ANTALYASPOR
TRIGGER:PT0S
END:VALARM
END:VEVENT
BEGIN:VEVENT
UID:721f3b37-3302-4c8f-dd16-08de9c03c470
DTSTAMP:20260416T220746Z
TRANSP:TRANSPARENT
DTSTART:20260502T210000Z
DTEND:20260502T210000Z
STATUS:CONFIRMED
SUMMARY:HESAP.COM ANTALYASPOR - CORENDON ALANYASPOR
LOCATION:CORENDON AIRLINES PARK ANTALYA STADI - ANTALYA
BEGIN:VALARM
ACTION:DISPLAY
DESCRIPTION:HESAP.COM ANTALYASPOR - CORENDON ALANYASPOR
TRIGGER:PT0S
END:VALARM
END:VEVENT
BEGIN:VEVENT
UID:07d0af46-785d-4739-dd17-08de9c03c470
DTSTAMP:20260416T220746Z
TRANSP:TRANSPARENT
DTSTART:20260509T210000Z
DTEND:20260509T210000Z
STATUS:CONFIRMED
SUMMARY:GALATASARAY A.Ş. - HESAP.COM ANTALYASPOR
LOCATION:ALİ SAMİ YEN SPOR KOMPLEKSİ RAMS PARK - İSTANBUL
BEGIN:VALARM
ACTION:DISPLAY
DESCRIPTION:GALATASARAY A.Ş. - HESAP.COM ANTALYASPOR
TRIGGER:PT0S
END:VALARM
END:VEVENT
BEGIN:VEVENT
UID:93f506ea-4cc1-4591-dd18-08de9c03c470
DTSTAMP:20260416T220746Z
TRANSP:TRANSPARENT
DTSTART:20260516T210000Z
DTEND:20260516T210000Z
STATUS:CONFIRMED
SUMMARY:HESAP.COM ANTALYASPOR - KOCAELİSPOR
LOCATION:CORENDON AIRLINES PARK ANTALYA STADI - ANTALYA
BEGIN:VALARM
ACTION:DISPLAY
DESCRIPTION:HESAP.COM ANTALYASPOR - KOCAELİSPOR
TRIGGER:PT0S
END:VALARM
END:VEVENT
END:VCALENDAR
